BEGIN:VCALENDAR
VERSION:2.0
PRODID:-//Elodie Soulard - ECPv6.0.8//NONSGML v1.0//EN
CALSCALE:GREGORIAN
METHOD:PUBLISH
X-WR-CALNAME:Elodie Soulard
X-ORIGINAL-URL:https://elodiesoulard.com
X-WR-CALDESC:évènements pour Elodie Soulard
REFRESH-INTERVAL;VALUE=DURATION:PT1H
X-Robots-Tag:noindex
X-PUBLISHED-TTL:PT1H
BEGIN:VTIMEZONE
TZID:Europe/Paris
BEGIN:DAYLIGHT
TZOFFSETFROM:+0100
TZOFFSETTO:+0200
TZNAME:CEST
DTSTART:20260329T010000
END:DAYLIGHT
BEGIN:STANDARD
TZOFFSETFROM:+0200
TZOFFSETTO:+0100
TZNAME:CET
DTSTART:20261025T010000
END:STANDARD
END:VTIMEZONE
BEGIN:VEVENT
DTSTART;TZID=Europe/Paris:20260425T180000
DTEND;TZID=Europe/Paris:20260425T200000
DTSTAMP:20260425T012800
CREATED:20250930T194330Z
LAST-MODIFIED:20250930T194402Z
UID:1379-1777140000-1777147200@elodiesoulard.com
SUMMARY:St Augustin (19): Récital solo
DESCRIPTION:Elodie Soulard: accordéon \nProgramme baroque de pièces à deux vois (Bach\, Scarlatti\, Rameau)
URL:https://elodiesoulard.com/event/st-augustin-19-recital-solo/
LOCATION:Eglise\, St Augustin\, 19390
END:VEVENT
END:VCALENDAR